BEGIN:VCALENDAR
VERSION:2.0
PRODID:-//hacksw/handcal//NONSGML v1.0//EN
BEGIN:VEVENT
SUMMARY:Cours enfants/parents pour les eveil-judo
UID:0b7d47d1-e6b4-49a2-aeb3-3625c5cfc28a
DTSTART:20260516T091500Z
DTEND:20260516T100000Z
LOCATION:Localisation Dojo du Gymnase Bodin - 20 rue de Suresnes 92380 GARCHES
CATEGORIES:Sportif
STATUS:
DESCRIPTION:<p><span style="font-size:16px;">Pendant le long week-end
 de l'Ascension, nous maintenons les cours. Afin de proposer une
 activite a tous les enfants qui ne partiront pas, nous organisons un
 cours parents/enfants ! </span></p>
 
 <p><span
 style="font-size:16px;">Le principe : les judokas viennent
 accompagner de leur maman, de leur papa, de leur grand frere, de leur
 grande soeur... et feront un cours avec eux ! L'occasion pour tous de
 decouvrir le judo, ou pour certains de se rememorer des bons
 souvenirs de leur enfance ! Il suffit de venir avec une tenue de
 sport !</span></p>
URL;VALUE=URI:https://www.energyclubgarches.com/evenements/2026/05/16/cours-enfantsparents-pour-les-eveil-judo-2442601
END:VEVENT
END:VCALENDAR
