BEGIN:VCALENDAR
VERSION:2.0
PRODID:-//hacksw/handcal//NONSGML v1.0//EN
BEGIN:VEVENT
SUMMARY:Cours enfants/parents pour les pre-poussins
UID:3dc69a56-cd4b-4307-9c8d-7152ed7a2f00
DTSTART:20260516T073000Z
DTEND:20260516T090000Z
LOCATION:Localisation Dojo du Gymnase Bodin - 20 rue de Suresnes 92380 GARCHES
CATEGORIES:Entrainement
STATUS:
DESCRIPTION:<p><span style="font-size:16px;">Pendant le long week-end
 de l'Ascension, nous maintenons les cours. Afin de proposer une
 activite a tous les enfants qui ne partiront pas, nous organisons un
 cours parents/enfants ! </span></p>
 
 <p><span
 style="font-size:16px;">Le principe : les judokas viennent
 accompagner de leur maman, de leur papa, de leur grand frere, de leur
 grande soeur... et feront un cours avec eux ! L'occasion pour tous de
 decouvrir le judo, ou pour certains de se rememorer des bons
 souvenirs de leur enfance ! Il suffit de venir avec une tenue de
 sport !</span></p>
 
 <p> </p>
URL;VALUE=URI:https://www.energyclubgarches.com/evenements/2026/05/16/cours-enfantsparents-pour-les-pre-poussins-2442593
END:VEVENT
END:VCALENDAR
