BEGIN:VCALENDAR
VERSION:2.0
PRODID:-//hacksw/handcal//NONSGML v1.0//EN
BEGIN:VEVENT
SUMMARY:Tournoi des Petits Tigres 3eme tour
UID:424755b8-277f-4aff-a853-60240f16fda2
DTSTART:20260523T220000Z
DTEND:20260524T220000Z
LOCATION:Localisation Gymnase des Raguidelles - 27 rue des Tourneroches 92150 SURESNES
CATEGORIES:Sportif
STATUS:
DESCRIPTION:<p><span style="font-size:16px;">Dernier tour du Tournoi
 des Petits Tigres pour les Poussins (2017-2016). Ne peuvent
 participer que ceux qui ont fait au moins un des deux premiers
 tours.</span></p>
 
 <p><span style="font-size:16px;">A la fin de leurs
 prestations, les judokas recevront leur ecusson d'Or, d'Argent ou de
 Bronze.</span></p>
 
 <p><u><span style="font-size:16px;">Horaires
 : </span></u></p>
 
 <ul>
 	<li><span style="font-size:16px;">a
 venir</span></li>
 </ul>
 
 <p><span
 style="font-size:16px;">L'inscription se fera en repondant a la
 covnocation recue par mail avant le jeudi 21 mai.</span></p>
URL;VALUE=URI:https://www.energyclubgarches.com/evenements/2026/05/24/tournoi-des-petits-tigres-3eme-tour-2437704
END:VEVENT
END:VCALENDAR
