BEGIN:VCALENDAR
VERSION:2.0
PRODID:-//hacksw/handcal//NONSGML v1.0//EN
BEGIN:VEVENT
SUMMARY:Animation Cours Eveil Judo
UID:3dd7ded2-ef01-4b9e-9615-3a12a38c9cc7
DTSTART:20260607T140000Z
DTEND:20260607T150000Z
LOCATION:Localisation Gymnase Bodin - 20 rue de Suresnes 92380 GARCHES
CATEGORIES:Manifestation
STATUS:
DESCRIPTION:<p><span style="font-size:16px;">Derniere animation de
 l'annee pour nos cours eveil-judo (2021-2020).</span></p>
 
 <p><span
 style="font-size:16px;">Apres une demonstration de leurs progres, ils
 recevront leur nouvelle ceinture ! </span></p>
 
 <p><span
 style="font-size:16px;">L'inscription se fait en repondant a la
 convocation recue par mail avant le mercredi 3 juin</span></p>
URL;VALUE=URI:https://www.energyclubgarches.com/evenements/2026/06/07/animation-cours-eveil-judo-2435100
END:VEVENT
END:VCALENDAR
