BEGIN:VCALENDAR
VERSION:2.0
PRODID:-//hacksw/handcal//NONSGML v1.0//EN
BEGIN:VEVENT
SUMMARY:Tournoi du Club poussins
UID:17d8b913-e67d-43e0-ad43-9aa380bebfb6
DTSTART:20260607T070000Z
DTEND:20260607T130000Z
LOCATION:Localisation Gymnase Bodin - 20 rue de Suresnes 92380 GARCHES
CATEGORIES:Sportif
STATUS:
DESCRIPTION:<p><span style="font-size:16px;">Tournoi du club pour les
 poussins (2016-2017). Dans la mesure du possible les judokas nes en
 2016 et en 2017 seront separes. Tous les enfants seront recompenses
 par une medaille.</span></p>
 
 <p><u><span
 style="font-size:16px;">Horaires : </span></u></p>
 
 <ul>
 	<li><span
 style="font-size:16px;">9h : pointage de toutes les Poussines Filles
 et des Poussins Garcons pesant plus de 32kg</span></li>
 	<li><span
 style="font-size:16px;">12h : pointage des Poussins Garcons pesant
 moins de 32kg</span></li>
 </ul>
 
 <p><span
 style="font-size:16px;">L'inscription se fait en repondant a la
 convoaciton recue avant le mercredi 3 juin.</span></p>
URL;VALUE=URI:https://www.energyclubgarches.com/evenements/2026/06/07/tournoi-du-club-poussins-2435096
END:VEVENT
END:VCALENDAR
